BEGIN:VCALENDAR
VERSION:2.0
PRODID:-//wp-events-plugin.com//7.2.2.1//EN
TZID:Europe/London
X-WR-TIMEZONE:Europe/London
BEGIN:VEVENT
UID:11@robertgraham1874.com
DTSTART:20240726T183000Z
DTEND:20240726T234500Z
DTSTAMP:20250324T155646Z
URL:https://robertgraham1874.com/events/the-art-of-whisky-cigars/
SUMMARY:The Art of Whisky &amp\; Cigars
DESCRIPTION:Robert Graham 1874 presents:\nThe Art of Whisky &amp\; Cigars\n
 An evening celebrating the art of whisky and cigars\, with the Court of Re
 donda whisky expressions and cigars from The Foundation Cigar Company.\n\n
 Join us at the New Club\, Edinburgh\, on Friday\, July 26th\, for our firs
 t Robert Graham 1874 Dinner of 2024\, where we’ll enjoy delicious food\,
  fine wines and whisky\, and great cigars.\nThe evening with begin with a 
 Pol Roger Champagne reception at 6.30pm\, before we have our first whisky 
 and cigar pairing of the evening at 6.45pm sharp on the New Club balcony.\
 nAround 745pm\, we will enjoy a 3 course dinner (with a choice of grilled 
 Fillet Steak\, Salmon Pave\, or Pumpkin and Sage Tortellini for the main c
 ourse) and a few glasses of wine included\, shortly followed by a 3 dram w
 hisky tasting of some of our Court of Redonda single cask range and a conv
 ersation with Nick Hammond about the latest installment of his cigar relat
 ed travelogue: Around the World in 80 Cigars – There and Back Again!\nWe
  will then retire to the balcony\, with its stunning views over Princes St
 reet Gardens and Edinburgh Castle\, to enjoy our second cigar of the eveni
 ng\, perfectly paired with another two whiskies from our Court of Redonda 
 series.\nSpecial Guests:\nSteve Johnstone – Robert Graham 1874 MD and Bu
 siness Owner\nGeorge Frakes – 1573 Cigars\nNick Hammond – Renowned Aut
 hor\n\nWhat we are sampling:\n\n 	Foundation Cigars: Olmec Claro Robusto\n
  	Foundation Cigars: Highclere Castle Victorian Robusto\n 	Lochwood Tower\
 n 	Court of Redonda Glenallachie\n 	Court of Redonda Benriach\n 	Court of 
 Redonda Glenrothes\n 	Court of Redonda Glen Garioch\n 	Court of Redonda Da
 iluaine\n\nThe Art of Whisky &amp\; Cigars Tickets for this event are pric
 ed at £155 per person and spaces are limited.\n\nPlease select your requi
 red ticket below selecting the main meal you wish to enjoy on the evening.
   If you are booking more than one ticket\, please add a note to your ord
 er detailing the names of your party and their meal choice.\n\n 	A cash / 
 card bar will be open for the duration of the evening\, with a selection o
 f drinks to purchase.\n 	The New Club is a private members club\, and does
  have a dress code as follows:\nFor gentlemen\, a jacket and tie are requi
 red\, and the jacket and tie are to be worn at all times within Club premi
 ses.\n 	Ladies should dress in business attire\, elegant dress\, separates
  or smart trousers.\n 	No Jeans\, Sportswear or Trainers\n 	Please note th
 at we will be outside on the 3rd floor balcony while enjoying our cigars.\
 n 	The balcony has limited cover\, so please do dress appropriately for po
 ssible cold weather later in the evening.\n 	In the unfortunate event of r
 ain\, umbrellas will be provided.\n
ATTACH;FMTTYPE=image/jpeg:https://robertgraham1874.com/wp-content/uploads/
 2024/06/The-Art-of-Whisky-Cigars-event-July-24.png
LOCATION:New Club\, Edinburgh\, 86 Princes Street\, Edinburgh\, EH2 2BB\, U
 nited Kingdom
GEO:55.95196;-3.198054
X-APPLE-STRUCTURED-LOCATION;VALUE=URI;X-ADDRESS=86 Princes Street\, Edinbur
 gh\, EH2 2BB\, United Kingdom;X-APPLE-RADIUS=100;X-TITLE=New Club\, Edinbu
 rgh:geo:55.95196,-3.198054
END:VEVENT
END:VCALENDAR