BEGIN:VCALENDAR
VERSION:2.0
PRODID:-//wp-events-plugin.com//7.2.2.1//EN
TZID:Europe/London
X-WR-TIMEZONE:Europe/London
BEGIN:VEVENT
UID:61@robertgraham1874.com
DTSTART:20250528T184500Z
DTEND:20250528T220000Z
DTSTAMP:20250526T091027Z
URL:https://robertgraham1874.com/events/edinburgh-whisky-and-cigar-samplin
 g-2/
SUMMARY:Edinburgh Whisky and Cigar Sampling Evening
DESCRIPTION:Edinburgh Whisky &amp\; Cigar Sampling Evening\nWednesday 28th 
 May\n6.45 pm\n\nThis is a virtual ticket for an in person event\; no physi
 cal ticket will be sent. Your name will be added to our attendees list and
  checked off on arrival at the venue.\n\nCome along to our exciting partne
 r venue - The Blackbird\, Edinburgh - and join us for this special evening
  celebrating great cigars and whisky.\n\nWe'll be pairing some of our team
 's favourite cigars and drams and will be joined by Alan Graham from Brigh
 tleaf\n\nWhat this ticket includes:\n- Chateau Diadem - Conviction Robust
 o\n- El Septimo - Sacred Arts Leonardo da Vinci Lancero\n- Robert Graham 1
 874 Court of Redonda - Glenallachie\n- Robert Graham 1874 Court of Redonda
  - Dailuaine\n\nWhere:\nThe Blackbird\, Edinburgh\nWednesday 28th May\n6.4
 5 pm\n\nVery Limited Places available: Tickets on sale while places last\n
 \nOver 18's only
ATTACH;FMTTYPE=image/jpeg:https://robertgraham1874.com/wp-content/uploads/
 2025/05/Screenshot-2025-05-06-at-16.00.12.png
LOCATION:The Blackbird Edinburgh\, 37-39 Leven Street\, Edinburgh\, EH3 9LH
 \, United Kingdom
GEO:55.941048;-3.20372
X-APPLE-STRUCTURED-LOCATION;VALUE=URI;X-ADDRESS=37-39 Leven Street\, Edinbu
 rgh\, EH3 9LH\, United Kingdom;X-APPLE-RADIUS=100;X-TITLE=The Blackbird Ed
 inburgh:geo:55.941048,-3.20372
END:VEVENT
END:VCALENDAR