BEGIN:VCALENDAR
VERSION:2.0
PRODID:-//wp-events-plugin.com//7.2.2.1//EN
TZID:Europe/London
X-WR-TIMEZONE:Europe/London
BEGIN:VEVENT
UID:36@robertgraham1874.com
DTSTART;TZID=Europe/London:20241026T130000
DTEND;TZID=Europe/London:20241026T160000
DTSTAMP:20241010T145454Z
URL:https://robertgraham1874.com/events/barrel-top-tasting/
SUMMARY:Barrel Top Tasting with Robert Graham whiskies - Cambridge
DESCRIPTION:Join us Saturday\, 26th October\, from 1:00 to 4:00 PM at our C
 ambridge store for an unforgettable Barrel Top Tasting event with our very
  own Robert Graham whiskies - Lindores RG Exclusive Bourbon Cask\, Ailein 
 Mor\, Lochwood\, Glenallachie 7 and BenRiach 10.\n\nNo need to RSVP – ju
 st show up ready to sip\, savour\, and soak up the whisky wisdom. Whether 
 you’re a seasoned connoisseur or a curious newbie\, this event is tailor
 -made for you.\n\nWhen? Friday\, 2nd August | 1 - 4:00 PM\nWhere? Robert G
 raham 1874 Cambridge Store\nWho? Robert Graham whiskies\n\n&nbsp\;
ATTACH;FMTTYPE=image/jpeg:https://robertgraham1874.com/wp-content/uploads/
 2024/10/Barrel-Top-Tasting-Store-Poster-2.jpg
LOCATION:Cambridge Store\, 9 Sussex Street\, Cambridge\, Cambridgeshire\, C
 B1 1PA\, United Kingdom
GEO:52.206816;0.121321
X-APPLE-STRUCTURED-LOCATION;VALUE=URI;X-ADDRESS=9 Sussex Street\, Cambridge
 \, Cambridgeshire\, CB1 1PA\, United Kingdom;X-APPLE-RADIUS=100;X-TITLE=Ca
 mbridge Store:geo:52.206816,0.121321
END:VEVENT
BEGIN:VTIMEZONE
TZID:Europe/London
X-LIC-LOCATION:Europe/London
BEGIN:DAYLIGHT
DTSTART:20240331T020000
TZOFFSETFROM:+0000
TZOFFSETTO:+0100
TZNAME:BST
END:DAYLIGHT
END:VTIMEZONE
END:VCALENDAR