BEGIN:VCALENDAR
VERSION:2.0
PRODID:-//wp-events-plugin.com//7.2.2.1//EN
TZID:Europe/London
X-WR-TIMEZONE:Europe/London
BEGIN:VEVENT
UID:46@robertgraham1874.com
DTSTART;TZID=Europe/London:20241213T130000
DTEND;TZID=Europe/London:20241213T170000
DTSTAMP:20241202T114436Z
URL:https://robertgraham1874.com/events/barrel-top-tasting-with-the-glasgo
 w-distillery/
SUMMARY:Barrel Top Tasting with The Glasgow Distillery
DESCRIPTION:Join us on Friday\, 13th December\, from 1:00 to 5:00 PM at our
  Glasgow store for a Barrel Top Tasting event with The Glasgow Distillery\
 n\nNo need to RSVP – just show up ready to sip\, savour\, and soak up th
 e whisky wisdom. Whether you’re a seasoned connoisseur or a curious newb
 ie\, this event is tailor-made for you.\n\nWhen? Friday\, 13th December | 
 1:00 - 5:00 PM\nWhere? Robert Graham 1874 Glasgow Store\nWho? The Glasgow 
 Distillery\n\n&nbsp\;
ATTACH;FMTTYPE=image/jpeg:https://robertgraham1874.com/wp-content/uploads/
 2024/12/Barrel-Top-Tasting-post-9.jpg
LOCATION:Glasgow Store\, 111 West George Street\, Glasgow\, 1QX\, United Ki
 ngdom
GEO:55.862112;-4.25581
X-APPLE-STRUCTURED-LOCATION;VALUE=URI;X-ADDRESS=111 West George Street\, Gl
 asgow\, 1QX\, United Kingdom;X-APPLE-RADIUS=100;X-TITLE=Glasgow Store:geo:
 55.862112,-4.25581
END:VEVENT
BEGIN:VTIMEZONE
TZID:Europe/London
X-LIC-LOCATION:Europe/London
BEGIN:STANDARD
DTSTART:20241027T010000
TZOFFSETFROM:+0100
TZOFFSETTO:+0000
TZNAME:GMT
END:STANDARD
END:VTIMEZONE
END:VCALENDAR