BEGIN:VCALENDAR
VERSION:2.0
PRODID:-//wp-events-plugin.com//7.2.2.1//EN
TZID:Europe/London
X-WR-TIMEZONE:Europe/London
BEGIN:VEVENT
UID:48@robertgraham1874.com
DTSTART;TZID=Europe/London:20241207T120000
DTEND;TZID=Europe/London:20241207T160000
DTSTAMP:20241205T144557Z
URL:https://robertgraham1874.com/events/barrel-top-tasting-with-the-glasgo
 w-distillery-2/
SUMMARY:Barrel Top Tasting with The Glasgow Distillery
DESCRIPTION:Join us on Saturday\, 7th December\, from 12:00 to 4:00 PM at o
 ur Edinburgh store for a Barrel Top Tasting event with The Glasgow Distill
 ery\n\nNo need to RSVP – just show up ready to sip\, savour\, and soak u
 p the whisky wisdom. Whether you’re a seasoned connoisseur or a curious 
 newbie\, this event is tailor-made for you.\n\nWhen? Saturday\, 7th Decemb
 er | 12:00 - 4:00 PM\nWhere? Robert Graham 1874 Edinburgh Store\nWho? The 
 Glasgow Distillery\n\n&nbsp\;
ATTACH;FMTTYPE=image/jpeg:https://robertgraham1874.com/wp-content/uploads/
 2024/12/Barrel-Top-Tasting-post-12.jpg
LOCATION:Edinburgh Store\, 194 Rose Street\, Edinburgh\, EH2 4AZ\, United K
 ingdom
GEO:55.951381;-3.204805
X-APPLE-STRUCTURED-LOCATION;VALUE=URI;X-ADDRESS=194 Rose Street\, Edinburgh
 \, EH2 4AZ\, United Kingdom;X-APPLE-RADIUS=100;X-TITLE=Edinburgh Store:geo
 :55.951381,-3.204805
END:VEVENT
BEGIN:VTIMEZONE
TZID:Europe/London
X-LIC-LOCATION:Europe/London
BEGIN:STANDARD
DTSTART:20241027T010000
TZOFFSETFROM:+0100
TZOFFSETTO:+0000
TZNAME:GMT
END:STANDARD
END:VTIMEZONE
END:VCALENDAR