BEGIN:VCALENDAR
VERSION:2.0
PRODID:-//wp-events-plugin.com//7.2.2.1//EN
TZID:Europe/London
X-WR-TIMEZONE:Europe/London
BEGIN:VEVENT
UID:44@robertgraham1874.com
DTSTART;TZID=Europe/London:20241206T130000
DTEND;TZID=Europe/London:20241206T170000
DTSTAMP:20241202T110749Z
URL:https://robertgraham1874.com/events/barrel-top-tasting-with-lochlea/
SUMMARY:Barrel Top Tasting with Lochlea
DESCRIPTION:Join us on Friday\, 6th December\, from 1:00 to 5:00 PM at our 
 Glasgow store for a Barrel Top Tasting event with Lochlea.\n\nNo need to R
 SVP – just show up ready to sip\, savour\, and soak up the whisky wisdom
 . Whether you’re a seasoned connoisseur or a curious newbie\, this event
  is tailor-made for you.\n\nWhen? Friday\, 6th December | 1:00 - 5:00 PM\n
 Where? Robert Graham 1874 Glasgow Store\nWho? Lochlea\n\n&nbsp\;
ATTACH;FMTTYPE=image/jpeg:https://robertgraham1874.com/wp-content/uploads/
 2024/12/Barrel-Top-Tasting-post-7.jpg
LOCATION:Glasgow Store\, 111 West George Street\, Glasgow\, 1QX\, United Ki
 ngdom
GEO:55.862112;-4.25581
X-APPLE-STRUCTURED-LOCATION;VALUE=URI;X-ADDRESS=111 West George Street\, Gl
 asgow\, 1QX\, United Kingdom;X-APPLE-RADIUS=100;X-TITLE=Glasgow Store:geo:
 55.862112,-4.25581
END:VEVENT
BEGIN:VTIMEZONE
TZID:Europe/London
X-LIC-LOCATION:Europe/London
BEGIN:STANDARD
DTSTART:20241027T010000
TZOFFSETFROM:+0100
TZOFFSETTO:+0000
TZNAME:GMT
END:STANDARD
END:VTIMEZONE
END:VCALENDAR