BEGIN:VCALENDAR
VERSION:2.0
PRODID:-//wp-events-plugin.com//7.2.2.1//EN
TZID:Europe/London
X-WR-TIMEZONE:Europe/London
BEGIN:VEVENT
UID:70@robertgraham1874.com
DTSTART;TZID=Europe/London:20250705T130000
DTEND;TZID=Europe/London:20250705T170000
DTSTAMP:20250624T151148Z
URL:https://robertgraham1874.com/events/barrel-top-tasting-with-glashu-spi
 rits-co-2/
SUMMARY:Barrel Top Tasting with Glashu Spirits Co
DESCRIPTION:Join us on Saturday\, 5th July\, from 13:00 to 5:00 PM at our G
 lasgow store for a Barrel Top Tasting event with Glashu Spirits Co.\n\nNo 
 need to RSVP – just show up ready to sip\, savour\, and soak up the whis
 ky wisdom. Whether you’re a seasoned connoisseur or a curious newbie\, t
 his event is tailor-made for you.\n\nWhen? Saturday\, 5th July| 13:00 - 5:
 00 PM\nWhere? Robert Graham 1874 Glasgow Store\nWho? Glashu Spirits Co\n\n
 &nbsp\;
ATTACH;FMTTYPE=image/jpeg:https://robertgraham1874.com/wp-content/uploads/
 2025/06/Barrel-Top-Tasting-socials-3.png
LOCATION:Glasgow Store\, 111 West George Street\, Glasgow\, 1QX\, United Ki
 ngdom
GEO:55.862112;-4.25581
X-APPLE-STRUCTURED-LOCATION;VALUE=URI;X-ADDRESS=111 West George Street\, Gl
 asgow\, 1QX\, United Kingdom;X-APPLE-RADIUS=100;X-TITLE=Glasgow Store:geo:
 55.862112,-4.25581
END:VEVENT
BEGIN:VTIMEZONE
TZID:Europe/London
X-LIC-LOCATION:Europe/London
BEGIN:DAYLIGHT
DTSTART:20250330T020000
TZOFFSETFROM:+0000
TZOFFSETTO:+0100
TZNAME:BST
END:DAYLIGHT
END:VTIMEZONE
END:VCALENDAR