BEGIN:VCALENDAR
VERSION:2.0
PRODID:-//wp-events-plugin.com//7.2.2.1//EN
TZID:Europe/London
X-WR-TIMEZONE:Europe/London
BEGIN:VEVENT
UID:23@robertgraham1874.com
DTSTART;TZID=Europe/London:20240817T123000
DTEND;TZID=Europe/London:20240817T170000
DTSTAMP:20240731T142312Z
URL:https://robertgraham1874.com/events/barrel-top-tasting-angus-dundee-di
 stillers/
SUMMARY:Barrel Top Tasting Angus Dundee Distillers
DESCRIPTION:Join us on Friday\, 17th August\, from 12:30 to 5:00 PM at our 
 Glasgow store for an unforgettable Barrel Top Tasting event with the legen
 dary Angus Dundee Distillers.\n\nNo need to RSVP – just show up ready to
  sip\, savour\, and soak up the whisky wisdom. Whether you’re a seasoned
  connoisseur or a curious newbie\, this event is tailor-made for you.\n\nW
 hen? Friday\, 17th August | 12:30 - 5:00 PM\nWhere? Robert Graham 1874 Edi
 nburgh Store\nWho? Angus Dundee Distillers – masters of their craft\n\n&
 nbsp\;
ATTACH;FMTTYPE=image/jpeg:https://robertgraham1874.com/wp-content/uploads/
 2024/07/Table-Top-Tasting-Poster-2.png
LOCATION:Edinburgh Store\, 194 Rose Street\, Edinburgh\, EH2 4AZ\, United K
 ingdom
GEO:55.951381;-3.204805
X-APPLE-STRUCTURED-LOCATION;VALUE=URI;X-ADDRESS=194 Rose Street\, Edinburgh
 \, EH2 4AZ\, United Kingdom;X-APPLE-RADIUS=100;X-TITLE=Edinburgh Store:geo
 :55.951381,-3.204805
END:VEVENT
BEGIN:VTIMEZONE
TZID:Europe/London
X-LIC-LOCATION:Europe/London
BEGIN:DAYLIGHT
DTSTART:20240331T020000
TZOFFSETFROM:+0000
TZOFFSETTO:+0100
TZNAME:BST
END:DAYLIGHT
END:VTIMEZONE
END:VCALENDAR